BEGIN:VCALENDAR
VERSION:2.0
PRODID:-//ddaysoftware.com//NONSGML DDay.iCal 1.0//EN
BEGIN:VTIMEZONE
TZID:W. Europe Standard Time
BEGIN:STANDARD
DTSTART:20251002T030000
RRULE:FREQ=YEARLY;BYDAY=-1SU;BYHOUR=3;BYMINUTE=0;BYMONTH=10
TZNAME:W. Europe Standard Time
TZOFFSETFROM:+0200
TZOFFSETTO:+0100
END:STANDARD
BEGIN:DAYLIGHT
DTSTART:20250301T020000
RRULE:FREQ=YEARLY;BYDAY=-1SU;BYHOUR=2;BYMINUTE=0;BYMONTH=3
TZNAME:W. Europe Daylight Time
TZOFFSETFROM:+0100
TZOFFSETTO:+0200
END:DAYLIGHT
END:VTIMEZONE
BEGIN:VEVENT
CATEGORIES:Allgemein
DESCRIPTION:\n\nVeranstalter: Musikkapelle der FFW Röttbach\n\nhttps://www.
 kreuzwertheim.de/aktuelles/veranstaltungen/musikkapelle-der-freiw-feuerweh
 r-roettbach-musikrallye-fuer-die-nachwuchswerbung/
DTEND:20230924T150000
DTSTAMP:20260421T124216Z
DTSTART:20230924T140000
LOCATION:Turnhalle Röttbach: Röttbacher Str. 62\, 97892 Röttbach
SEQUENCE:0
SUMMARY:Musikkapelle der Freiw. Feuerwehr Röttbach: Musikrallye für die Nac
 hwuchswerbung
UID:9434
URL:https://www.kreuzwertheim.de/aktuelles/veranstaltungen/musikkapelle-der
 -freiw-feuerwehr-roettbach-musikrallye-fuer-die-nachwuchswerbung/
END:VEVENT
END:VCALENDAR
