BEGIN:VCALENDAR
VERSION:2.0
PRODID:-//ddaysoftware.com//NONSGML DDay.iCal 1.0//EN
BEGIN:VTIMEZONE
TZID:W. Europe Standard Time
BEGIN:STANDARD
DTSTART:20251002T030000
RRULE:FREQ=YEARLY;BYDAY=-1SU;BYHOUR=3;BYMINUTE=0;BYMONTH=10
TZNAME:W. Europe Standard Time
TZOFFSETFROM:+0200
TZOFFSETTO:+0100
END:STANDARD
BEGIN:DAYLIGHT
DTSTART:20250301T020000
RRULE:FREQ=YEARLY;BYDAY=-1SU;BYHOUR=2;BYMINUTE=0;BYMONTH=3
TZNAME:W. Europe Daylight Time
TZOFFSETFROM:+0100
TZOFFSETTO:+0200
END:DAYLIGHT
END:VTIMEZONE
BEGIN:VEVENT
CATEGORIES:Allgemein
DESCRIPTION:\n\nVeranstalter: Kath. öffentliche Bücherei Röttbach\n\nhttps:
 //www.kreuzwertheim.de/aktuelles/veranstaltungen/kath-oeffentliche-buecher
 ei-roettbach-lesung-mit-susanne-beck-bocksbeutelverschwoerung-krimi/
DTEND:20260314T170000
DTSTAMP:20260420T232154Z
DTSTART:20260314T160000
LOCATION:Pfarrsaal Röttbach: Röttbacher Str. 34\, 97892 Kreuzwertheim
SEQUENCE:0
SUMMARY:Kath. öffentliche Bücherei Röttbach: Lesung mit Susanne Beck "Bocks
 beutelverschwörung" (Krimi) 
UID:9084
URL:https://www.kreuzwertheim.de/aktuelles/veranstaltungen/kath-oeffentlich
 e-buecherei-roettbach-lesung-mit-susanne-beck-bocksbeutelverschwoerung-kri
 mi/
END:VEVENT
END:VCALENDAR
