BEGIN:VCALENDAR
VERSION:2.0
PRODID:-//ddaysoftware.com//NONSGML DDay.iCal 1.0//EN
BEGIN:VTIMEZONE
TZID:W. Europe Standard Time
BEGIN:STANDARD
DTSTART:20251002T030000
RRULE:FREQ=YEARLY;BYDAY=-1SU;BYHOUR=3;BYMINUTE=0;BYMONTH=10
TZNAME:W. Europe Standard Time
TZOFFSETFROM:+0200
TZOFFSETTO:+0100
END:STANDARD
BEGIN:DAYLIGHT
DTSTART:20250301T020000
RRULE:FREQ=YEARLY;BYDAY=-1SU;BYHOUR=2;BYMINUTE=0;BYMONTH=3
TZNAME:W. Europe Daylight Time
TZOFFSETFROM:+0100
TZOFFSETTO:+0200
END:DAYLIGHT
END:VTIMEZONE
BEGIN:VEVENT
CATEGORIES:Allgemein
CATEGORIES:Senioren
CATEGORIES:Sport
DESCRIPTION:\n\nhttps://www.kreuzwertheim.de/aktuelles/veranstaltungen/k-se
 nioren-sport/
DTEND:20260409T110000
DTSTAMP:20260423T091231Z
DTSTART:20260409T100000
LOCATION:Evang. Gemeindehaus Hauptstraße: Hauptstr. 35\, 97892 Kreuzwerthei
 m
SEQUENCE:0
SUMMARY:Senioren-Sport
UID:19347
URL:https://www.kreuzwertheim.de/aktuelles/veranstaltungen/k-senioren-sport
 /
END:VEVENT
END:VCALENDAR
