BEGIN:VCALENDAR
VERSION:2.0
PRODID:-//ddaysoftware.com//NONSGML DDay.iCal 1.0//EN
BEGIN:VTIMEZONE
TZID:W. Europe Standard Time
BEGIN:STANDARD
DTSTART:20251002T030000
RRULE:FREQ=YEARLY;BYDAY=-1SU;BYHOUR=3;BYMINUTE=0;BYMONTH=10
TZNAME:W. Europe Standard Time
TZOFFSETFROM:+0200
TZOFFSETTO:+0100
END:STANDARD
BEGIN:DAYLIGHT
DTSTART:20250301T020000
RRULE:FREQ=YEARLY;BYDAY=-1SU;BYHOUR=2;BYMINUTE=0;BYMONTH=3
TZNAME:W. Europe Daylight Time
TZOFFSETFROM:+0100
TZOFFSETTO:+0200
END:DAYLIGHT
END:VTIMEZONE
BEGIN:VEVENT
CATEGORIES:Allgemein
DESCRIPTION:Bitte das Sammelgut bis 9 Uhr an den Straßenrand legen. Für Wer
 tgegenstände wird keine Haftung übernommen.\n\nVeranstalter: BRK Bereitsch
 aft Kreuzwertheim\n\nhttps://www.kreuzwertheim.de/aktuelles/veranstaltunge
 n/k-brk-bereitschaft-kreuzwertheim-altkleidersammlung-in-kreuzwertheim-und
 -unterwittbach/
DTEND:20250322T100000
DTSTAMP:20260423T233004Z
DTSTART:20250322T090000
SEQUENCE:0
SUMMARY:BRK Bereitschaft Kreuzwertheim: Altkleidersammlung in Kreuzwertheim
  und Unterwittbach
UID:9525
URL:https://www.kreuzwertheim.de/aktuelles/veranstaltungen/k-brk-bereitscha
 ft-kreuzwertheim-altkleidersammlung-in-kreuzwertheim-und-unterwittbach/
END:VEVENT
END:VCALENDAR
