BEGIN:VCALENDAR
VERSION:2.0
PRODID:-//ddaysoftware.com//NONSGML DDay.iCal 1.0//EN
BEGIN:VTIMEZONE
TZID:W. Europe Standard Time
BEGIN:STANDARD
DTSTART:20251002T030000
RRULE:FREQ=YEARLY;BYDAY=-1SU;BYHOUR=3;BYMINUTE=0;BYMONTH=10
TZNAME:W. Europe Standard Time
TZOFFSETFROM:+0200
TZOFFSETTO:+0100
END:STANDARD
BEGIN:DAYLIGHT
DTSTART:20250301T020000
RRULE:FREQ=YEARLY;BYDAY=-1SU;BYHOUR=2;BYMINUTE=0;BYMONTH=3
TZNAME:W. Europe Daylight Time
TZOFFSETFROM:+0100
TZOFFSETTO:+0200
END:DAYLIGHT
END:VTIMEZONE
BEGIN:VEVENT
CATEGORIES:Allgemein
CATEGORIES:Senioren
CATEGORIES:Sport
DESCRIPTION:\n\nhttps://www.kreuzwertheim.de/aktuelles/veranstaltungen/k-se
 nioren-sport-4/
DTEND:20260423T110000
DTSTAMP:20260421T102733Z
DTSTART:20260423T100000
LOCATION:Evang. Gemeindehaus Hauptstraße: Hauptstr. 35\, 97892 Kreuzwerthei
 m
SEQUENCE:0
SUMMARY:Senioren-Sport
UID:19920
URL:https://www.kreuzwertheim.de/aktuelles/veranstaltungen/k-senioren-sport
 -4/
END:VEVENT
BEGIN:VEVENT
CATEGORIES:Allgemein
CATEGORIES:Senioren
CATEGORIES:Sport
DESCRIPTION:\n\nhttps://www.kreuzwertheim.de/aktuelles/veranstaltungen/k-se
 nioren-sport-5/
DTEND:20260430T110000
DTSTAMP:20260421T102733Z
DTSTART:20260430T100000
LOCATION:Evang. Gemeindehaus Hauptstraße: Hauptstr. 35\, 97892 Kreuzwerthei
 m
SEQUENCE:0
SUMMARY:Senioren-Sport
UID:20267
URL:https://www.kreuzwertheim.de/aktuelles/veranstaltungen/k-senioren-sport
 -5/
END:VEVENT
BEGIN:VEVENT
CATEGORIES:Veranstaltungen\, Feiern\, Feste
CATEGORIES:Sport
DESCRIPTION:\n\nVeranstalter: TSV "Jahn" 1922\n\nhttps://www.kreuzwertheim.
 de/aktuelles/veranstaltungen/k-tsv-jahn-1922-ev-sportfestwochenende/
DTEND:20260628T000000
DTSTAMP:20260421T102733Z
DTSTART;VALUE=DATE:20260626
LOCATION:Sportgelände Kreuzwertheim: 97892 Kreuzwertheim
SEQUENCE:0
SUMMARY:TSV "Jahn" 1922 Kreuzwertheim: Sportfestwochenende
UID:8018
URL:https://www.kreuzwertheim.de/aktuelles/veranstaltungen/k-tsv-jahn-1922-
 ev-sportfestwochenende/
END:VEVENT
BEGIN:VEVENT
CATEGORIES:Allgemein
CATEGORIES:Sport
CATEGORIES:Veranstaltungen\, Feiern\, Feste
DESCRIPTION:\n\nhttps://www.kreuzwertheim.de/aktuelles/veranstaltungen/k-pr
 ojekt-hizuna-tag-der-abenteuer-2026-naturtechnik-naturerleben-und-mehr-auf
 -dem-mainvorland-kreuzwertheim/
DTEND:20260705T180000
DTSTAMP:20260421T102733Z
DTSTART:20260705T130000
SEQUENCE:0
SUMMARY:Projekt HIZUNA: Tag der Abenteuer 2026 – Naturtechnik\, Naturerlebe
 n und mehr auf dem Mainvorland Kreuzwertheim
UID:16817
URL:https://www.kreuzwertheim.de/aktuelles/veranstaltungen/k-projekt-hizuna
 -tag-der-abenteuer-2026-naturtechnik-naturerleben-und-mehr-auf-dem-mainvor
 land-kreuzwertheim/
END:VEVENT
END:VCALENDAR
